BEGIN:VCALENDAR
VERSION:2.0
PRODID: -//Q4 Inc.//EN
METHOD:PUBLISH
BEGIN:VTIMEZONE
TZID:America/New_York
X-LIC-LOCATION:America/New_York
BEGIN:DAYLIGHT
TZOFFSETFROM:-0500
TZOFFSETTO:-0400
TZNAME:EDT
DTSTART:19700308T020000
RRULE:FREQ=YEARLY;BYMONTH=3;BYDAY=2SU
END:DAYLIGHT
BEGIN:STANDARD
TZOFFSETFROM:-0400
TZOFFSETTO:-0500
TZNAME:EST
DTSTART:19701101T020000
RRULE:FREQ=YEARLY;BYMONTH=11;BYDAY=1SU
END:STANDARD
END:VTIMEZONE
BEGIN:VEVENT
ORGANIZER:MAILTO:info@blank.q4web.com
DTSTART;TZID="America/New_York":20210913T112000
DTEND;TZID="America/New_York":20210913T120000
LOCATION:
UID:a1961dc5-c6fc-4796-b757-33143e408acb
DTSTAMP:20260422T011441
SUMMARY:Citi Technology Conference Fireside Chat with CFO Heath Mitts
DESCRIPTION: View More Information: https://investors.te.com/events/event-details/2021/Citi-Technology-Conference-Fireside-Chat-with-CFO-Heath-Mitts/default.aspx
URL;VALUE=URI:https://investors.te.com/events/event-details/2021/Citi-Technology-Conference-Fireside-Chat-with-CFO-Heath-Mitts/default.aspx
PRIORITY:5
CLASS:PUBLIC
END:VEVENT
END:VCALENDAR
