BEGIN:VCALENDAR
VERSION:2.0
PRODID: -//Q4 Inc.//EN
METHOD:PUBLISH
BEGIN:VTIMEZONE
TZID:America/New_York
X-LIC-LOCATION:America/New_York
BEGIN:DAYLIGHT
TZOFFSETFROM:-0500
TZOFFSETTO:-0400
TZNAME:EDT
DTSTART:19700308T020000
RRULE:FREQ=YEARLY;BYMONTH=3;BYDAY=2SU
END:DAYLIGHT
BEGIN:STANDARD
TZOFFSETFROM:-0400
TZOFFSETTO:-0500
TZNAME:EST
DTSTART:19701101T020000
RRULE:FREQ=YEARLY;BYMONTH=11;BYDAY=1SU
END:STANDARD
END:VTIMEZONE
BEGIN:VEVENT
ORGANIZER:MAILTO:info@blank.q4web.com
DTSTART;TZID="America/New_York":20210112T112500
DTEND;TZID="America/New_York":20210112T122500
LOCATION:
UID:929c6580-67ad-4084-a260-8a1d2b662452
DTSTAMP:20260421T111831
SUMMARY:TE Connectivity to present at J.P. Morgan Tech/Auto Forum
DESCRIPTION: View More Information: https://investors.te.com/events/event-details/2021/TE-Connectivity-to-present-at-JP-Morgan-Tech-Auto-Forum/default.aspx
URL;VALUE=URI:https://investors.te.com/events/event-details/2021/TE-Connectivity-to-present-at-JP-Morgan-Tech-Auto-Forum/default.aspx
PRIORITY:5
CLASS:PUBLIC
END:VEVENT
END:VCALENDAR
