BEGIN:VCALENDAR
VERSION:2.0
PRODID: -//Q4 Inc.//EN
METHOD:PUBLISH
BEGIN:VTIMEZONE
TZID:America/New_York
X-LIC-LOCATION:America/New_York
BEGIN:DAYLIGHT
TZOFFSETFROM:-0500
TZOFFSETTO:-0400
TZNAME:EDT
DTSTART:19700308T020000
RRULE:FREQ=YEARLY;BYMONTH=3;BYDAY=2SU
END:DAYLIGHT
BEGIN:STANDARD
TZOFFSETFROM:-0400
TZOFFSETTO:-0500
TZNAME:EST
DTSTART:19701101T020000
RRULE:FREQ=YEARLY;BYMONTH=11;BYDAY=1SU
END:STANDARD
END:VTIMEZONE
BEGIN:VEVENT
ORGANIZER:MAILTO:info@blank.q4web.com
DTSTART;TZID="America/New_York":20170726T083000
DTEND;TZID="America/New_York":20170726T093000
LOCATION:
UID:6260803f-f284-4b2b-b3d7-17dd44a95f84
DTSTAMP:20260421T181324
SUMMARY:Q3 2017 TE Connectivity Ltd. Earnings Conference Call
DESCRIPTION: View More Information: https://investors.te.com/events/event-details/2017/Q3-2017-TE-Connectivity-Ltd-Earnings-Conference-Call/default.aspx
URL;VALUE=URI:https://investors.te.com/events/event-details/2017/Q3-2017-TE-Connectivity-Ltd-Earnings-Conference-Call/default.aspx
PRIORITY:5
CLASS:PUBLIC
END:VEVENT
END:VCALENDAR
