BEGIN:VCALENDAR
VERSION:2.0
PRODID: -//Q4 Inc.//EN
METHOD:PUBLISH
BEGIN:VTIMEZONE
TZID:America/New_York
X-LIC-LOCATION:America/New_York
BEGIN:DAYLIGHT
TZOFFSETFROM:-0500
TZOFFSETTO:-0400
TZNAME:EDT
DTSTART:19700308T020000
RRULE:FREQ=YEARLY;BYMONTH=3;BYDAY=2SU
END:DAYLIGHT
BEGIN:STANDARD
TZOFFSETFROM:-0400
TZOFFSETTO:-0500
TZNAME:EST
DTSTART:19701101T020000
RRULE:FREQ=YEARLY;BYMONTH=11;BYDAY=1SU
END:STANDARD
END:VTIMEZONE
BEGIN:VEVENT
ORGANIZER:MAILTO:info@blank.q4web.com
DTSTART;TZID="America/New_York":20170601T150000
DTEND;TZID="America/New_York":20170601T160000
LOCATION:
UID:97a84f45-95e6-4eeb-9ac9-de6d8b18ca8a
DTSTAMP:20260421T101936
SUMMARY:TE Connectivity to Participate in Bernstein Thirty-Third Annual Strategic Decisions Conference 2017
DESCRIPTION: View More Information: https://investors.te.com/events/event-details/2017/TE-Connectivity-to-Participate-in-Bernstein-Thirty-Third-Annual-Strategic-Decisions-Conference-2017/default.aspx
URL;VALUE=URI:https://investors.te.com/events/event-details/2017/TE-Connectivity-to-Participate-in-Bernstein-Thirty-Third-Annual-Strategic-Decisions-Conference-2017/default.aspx
PRIORITY:5
CLASS:PUBLIC
END:VEVENT
END:VCALENDAR
