BEGIN:VCALENDAR
VERSION:2.0
PRODID: -//Q4 Inc.//EN
METHOD:PUBLISH
BEGIN:VTIMEZONE
TZID:America/New_York
X-LIC-LOCATION:America/New_York
BEGIN:DAYLIGHT
TZOFFSETFROM:-0500
TZOFFSETTO:-0400
TZNAME:EDT
DTSTART:19700308T020000
RRULE:FREQ=YEARLY;BYMONTH=3;BYDAY=2SU
END:DAYLIGHT
BEGIN:STANDARD
TZOFFSETFROM:-0400
TZOFFSETTO:-0500
TZNAME:EST
DTSTART:19701101T020000
RRULE:FREQ=YEARLY;BYMONTH=11;BYDAY=1SU
END:STANDARD
END:VTIMEZONE
BEGIN:VEVENT
ORGANIZER:MAILTO:info@blank.q4web.com
DTSTART;TZID="America/New_York":20161129T131500
DTEND;TZID="America/New_York":20161129T141500
LOCATION:
UID:5d9a48fa-fe79-4904-b116-df865ef12a07
DTSTAMP:20260421T181334
SUMMARY:TE Connectivity to Participate in 2016 Credit Suisse 20th Annual Technology, Media and Telecom Conference
DESCRIPTION: View More Information: https://investors.te.com/events/event-details/2016/TE-Connectivity-to-Participate-in-2016-Credit-Suisse-20th-Annual-Technology-Media-and-Telecom-Conference/default.aspx
URL;VALUE=URI:https://investors.te.com/events/event-details/2016/TE-Connectivity-to-Participate-in-2016-Credit-Suisse-20th-Annual-Technology-Media-and-Telecom-Conference/default.aspx
PRIORITY:5
CLASS:PUBLIC
END:VEVENT
END:VCALENDAR
