BEGIN:VCALENDAR
VERSION:2.0
PRODID: -//Q4 Inc.//EN
METHOD:PUBLISH
BEGIN:VTIMEZONE
TZID:America/New_York
X-LIC-LOCATION:America/New_York
BEGIN:DAYLIGHT
TZOFFSETFROM:-0500
TZOFFSETTO:-0400
TZNAME:EDT
DTSTART:19700308T020000
RRULE:FREQ=YEARLY;BYMONTH=3;BYDAY=2SU
END:DAYLIGHT
BEGIN:STANDARD
TZOFFSETFROM:-0400
TZOFFSETTO:-0500
TZNAME:EST
DTSTART:19701101T020000
RRULE:FREQ=YEARLY;BYMONTH=11;BYDAY=1SU
END:STANDARD
END:VTIMEZONE
BEGIN:VEVENT
ORGANIZER:MAILTO:info@blank.q4web.com
DTSTART;TZID="America/New_York":20150422T083000
DTEND;TZID="America/New_York":20150422T083000
LOCATION:
UID:6007e2c9-6f7e-45d4-8cc1-f8eab67da96a
DTSTAMP:20260421T203720
SUMMARY:Q2 2015 TE Connectivity Ltd. Earnings Conference Call
DESCRIPTION: View More Information: https://investors.te.com/events/event-details/2015/Q2-2015-TE-Connectivity-Ltd-Earnings-Conference-Call/default.aspx
URL;VALUE=URI:https://investors.te.com/events/event-details/2015/Q2-2015-TE-Connectivity-Ltd-Earnings-Conference-Call/default.aspx
PRIORITY:5
CLASS:PUBLIC
END:VEVENT
END:VCALENDAR
