BEGIN:VCALENDAR
VERSION:2.0
PRODID: -//Q4 Inc.//EN
METHOD:PUBLISH
BEGIN:VTIMEZONE
TZID:America/New_York
X-LIC-LOCATION:America/New_York
BEGIN:DAYLIGHT
TZOFFSETFROM:-0500
TZOFFSETTO:-0400
TZNAME:EDT
DTSTART:19700308T020000
RRULE:FREQ=YEARLY;BYMONTH=3;BYDAY=2SU
END:DAYLIGHT
BEGIN:STANDARD
TZOFFSETFROM:-0400
TZOFFSETTO:-0500
TZNAME:EST
DTSTART:19701101T020000
RRULE:FREQ=YEARLY;BYMONTH=11;BYDAY=1SU
END:STANDARD
END:VTIMEZONE
BEGIN:VEVENT
ORGANIZER:MAILTO:info@blank.q4web.com
DTSTART;TZID="America/New_York":20131119T083000
DTEND;TZID="America/New_York":20131119T083000
LOCATION:The New York Palace Hotel 455 Madison Avenue New York, NY
UID:4cec1a09-694a-447c-b1a6-e44f39912f49
DTSTAMP:20260421T115318
SUMMARY:TE Connectivity Ltd. Investor Day (New York)
DESCRIPTION: View More Information: https://investors.te.com/events/event-details/2013/TE-Connectivity-Ltd-Investor-Day-New-York/default.aspx
URL;VALUE=URI:https://investors.te.com/events/event-details/2013/TE-Connectivity-Ltd-Investor-Day-New-York/default.aspx
PRIORITY:5
CLASS:PUBLIC
END:VEVENT
END:VCALENDAR
