BEGIN:VCALENDAR
VERSION:2.0
PRODID: -//Q4 Inc.//EN
METHOD:PUBLISH
BEGIN:VTIMEZONE
TZID:America/New_York
X-LIC-LOCATION:America/New_York
BEGIN:DAYLIGHT
TZOFFSETFROM:-0500
TZOFFSETTO:-0400
TZNAME:EDT
DTSTART:19700308T020000
RRULE:FREQ=YEARLY;BYMONTH=3;BYDAY=2SU
END:DAYLIGHT
BEGIN:STANDARD
TZOFFSETFROM:-0400
TZOFFSETTO:-0500
TZNAME:EST
DTSTART:19701101T020000
RRULE:FREQ=YEARLY;BYMONTH=11;BYDAY=1SU
END:STANDARD
END:VTIMEZONE
BEGIN:VEVENT
ORGANIZER:MAILTO:info@blank.q4web.com
DTSTART;TZID="America/New_York":20130530T160000
DTEND;TZID="America/New_York":20130530T160000
LOCATION:The Waldorf-Astoria Hotel  New York, NY US
UID:63c45bc7-1990-4862-b3a9-9c6cda346c7c
DTSTAMP:20260422T011254
SUMMARY:TE Connectivity Ltd. at Sanford C Bernstein Strategic Decisions Conference
DESCRIPTION: View More Information: https://investors.te.com/events/event-details/2013/TE-Connectivity-Ltd-at-Sanford-C-Bernstein-Strategic-Decisions-Conference/default.aspx
URL;VALUE=URI:https://investors.te.com/events/event-details/2013/TE-Connectivity-Ltd-at-Sanford-C-Bernstein-Strategic-Decisions-Conference/default.aspx
PRIORITY:5
CLASS:PUBLIC
END:VEVENT
END:VCALENDAR
