BEGIN:VCALENDAR
VERSION:2.0
PRODID: -//Q4 Inc.//EN
METHOD:PUBLISH
BEGIN:VTIMEZONE
TZID:America/New_York
X-LIC-LOCATION:America/New_York
BEGIN:DAYLIGHT
TZOFFSETFROM:-0500
TZOFFSETTO:-0400
TZNAME:EDT
DTSTART:19700308T020000
RRULE:FREQ=YEARLY;BYMONTH=3;BYDAY=2SU
END:DAYLIGHT
BEGIN:STANDARD
TZOFFSETFROM:-0400
TZOFFSETTO:-0500
TZNAME:EST
DTSTART:19701101T020000
RRULE:FREQ=YEARLY;BYMONTH=11;BYDAY=1SU
END:STANDARD
END:VTIMEZONE
BEGIN:VEVENT
ORGANIZER:MAILTO:info@blank.q4web.com
DTSTART;TZID="America/New_York":20130306T140000
DTEND;TZID="America/New_York":20130306T140000
LOCATION:Radisson Blu Hotel Zurich Airport ZurichCH
UID:af35ab6e-c7bc-4a51-bbad-90b313da3604
DTSTAMP:20260421T153510
SUMMARY:2013 Annual General Meeting of Shareholders
DESCRIPTION: View More Information: https://investors.te.com/events/event-details/2013/2013-Annual-General-Meeting-of-Shareholders/default.aspx
URL;VALUE=URI:https://investors.te.com/events/event-details/2013/2013-Annual-General-Meeting-of-Shareholders/default.aspx
PRIORITY:5
CLASS:PUBLIC
END:VEVENT
END:VCALENDAR
