BEGIN:VCALENDAR
VERSION:2.0
PRODID: -//Q4 Inc.//EN
METHOD:PUBLISH
BEGIN:VTIMEZONE
TZID:America/New_York
X-LIC-LOCATION:America/New_York
BEGIN:DAYLIGHT
TZOFFSETFROM:-0500
TZOFFSETTO:-0400
TZNAME:EDT
DTSTART:19700308T020000
RRULE:FREQ=YEARLY;BYMONTH=3;BYDAY=2SU
END:DAYLIGHT
BEGIN:STANDARD
TZOFFSETFROM:-0400
TZOFFSETTO:-0500
TZNAME:EST
DTSTART:19701101T020000
RRULE:FREQ=YEARLY;BYMONTH=11;BYDAY=1SU
END:STANDARD
END:VTIMEZONE
BEGIN:VEVENT
ORGANIZER:MAILTO:info@blank.q4web.com
DTSTART;TZID="America/New_York":20251120T093000
DTEND;TZID="America/New_York":20251120T124500
LOCATION:
UID:8d468e2a-418a-4ef1-ac3b-1d95042f8ae0
DTSTAMP:20260422T163326
SUMMARY:Investor Day Webcast
DESCRIPTION: View More Information: https://investors.te.com/events/event-details/2025/-Investor-Day-Webcast-2025-MsONa7i67R/default.aspx
URL;VALUE=URI:https://investors.te.com/events/event-details/2025/-Investor-Day-Webcast-2025-MsONa7i67R/default.aspx
PRIORITY:5
CLASS:PUBLIC
END:VEVENT
END:VCALENDAR
